BEGIN:VCALENDAR
VERSION:2.0
PRODID:-//heartcentred reiki temp - ECPv6.4.0.1//NONSGML v1.0//EN
CALSCALE:GREGORIAN
METHOD:PUBLISH
X-WR-CALNAME:heartcentred reiki temp
X-ORIGINAL-URL:https://doswebhosts.com
X-WR-CALDESC:Events for heartcentred reiki temp
REFRESH-INTERVAL;VALUE=DURATION:PT1H
X-Robots-Tag:noindex
X-PUBLISHED-TTL:PT1H
BEGIN:VTIMEZONE
TZID:Europe/London
BEGIN:DAYLIGHT
TZOFFSETFROM:+0000
TZOFFSETTO:+0100
TZNAME:BST
DTSTART:20240331T010000
END:DAYLIGHT
BEGIN:STANDARD
TZOFFSETFROM:+0100
TZOFFSETTO:+0000
TZNAME:GMT
DTSTART:20241027T010000
END:STANDARD
END:VTIMEZONE
BEGIN:VEVENT
DTSTART;VALUE=DATE:20241021
DTEND;VALUE=DATE:20241023
DTSTAMP:20260422T230423
CREATED:20240501T041825Z
LAST-MODIFIED:20240503T042814Z
UID:1725-1729468800-1729641599@doswebhosts.com
SUMMARY:Traditional USUI Reiki 2 Course
DESCRIPTION:Attuned to Reiki and can’t get enough of it? Or maybe you were attuned a while ago and have lost some of the excitement and wonder you used to get from it? Come along to our Reiki Play Day and enjoy reiki shares\, meditations\, chanting\, support to welcome reiki back into your life or to continue to enjoy it with like-minded people. Open to everyone who is attuned to any type of and any Reiki lineage. Cost: Early Bird: $            (before {insert date}) Regular Price: $ Purchase your ticket here
URL:https://doswebhosts.com/event/traditional-usui-reiki-2-course/
LOCATION:Black Range\, Black Range\, Victoria\, Australia
CATEGORIES:Children,Class
END:VEVENT
END:VCALENDAR